BEGIN:VCALENDAR
VERSION:2.0
PRODID:-//Quinzaine du Japon en Occitanie - ECPv6.10.1.1//NONSGML v1.0//EN
CALSCALE:GREGORIAN
METHOD:PUBLISH
X-WR-CALNAME:Quinzaine du Japon en Occitanie
X-ORIGINAL-URL:https://quinzaine.japonoccitanie.fr
X-WR-CALDESC:Évènements pour Quinzaine du Japon en Occitanie
REFRESH-INTERVAL;VALUE=DURATION:PT1H
X-Robots-Tag:noindex
X-PUBLISHED-TTL:PT1H
BEGIN:VTIMEZONE
TZID:Europe/Paris
BEGIN:DAYLIGHT
TZOFFSETFROM:+0100
TZOFFSETTO:+0200
TZNAME:CEST
DTSTART:20230326T010000
END:DAYLIGHT
BEGIN:STANDARD
TZOFFSETFROM:+0200
TZOFFSETTO:+0100
TZNAME:CET
DTSTART:20231029T010000
END:STANDARD
BEGIN:DAYLIGHT
TZOFFSETFROM:+0100
TZOFFSETTO:+0200
TZNAME:CEST
DTSTART:20240331T010000
END:DAYLIGHT
BEGIN:STANDARD
TZOFFSETFROM:+0200
TZOFFSETTO:+0100
TZNAME:CET
DTSTART:20241027T010000
END:STANDARD
END:VTIMEZONE
BEGIN:VEVENT
DTSTART;TZID=Europe/Paris:20231014T080000
DTEND;TZID=Europe/Paris:20231210T170000
DTSTAMP:20260422T191743
CREATED:20230917T084718Z
LAST-MODIFIED:20231113T103407Z
UID:3316-1697270400-1702227600@quinzaine.japonoccitanie.fr
SUMMARY:Mobilité apprentis Tokyo
DESCRIPTION:La Région a sollicité le CFAR en 2018 pour une expérimentation de mobilité à Tokyo avec l’établissement de Montpellier dans le domaine de la cuisine. Le Japon est une zone prioritaire pour la Région. \nMobilité à Tokyo pendant 2 mois\, stage en entreprise dans de grands restaurants : du 14/10 au 10/12/2023\nLe Japon est en pointe dans le domaine de la gastronomie. Les cuisiniers japonais et français collaborent étroitement et les cartes françaises prennent des accents et des saveurs japonais.\nIl s’agit de mobilités pour 10 post-apprentis qui étaient apprentis à Purple en restauration dans les campus de Perpignan\, Béziers\, Montpellier et Marguerittes. (BP cuisine\, BP arts de la cuisine\, BP arts service restauration\, BTS Management Hôtellerie et Restauration). Ils sont diplômés depuis cet été et ont maintenant le statut de demandeur d’emploi afin de bénéficier du statut de stagiaire de la formation professionnelle pendant leur mobilité.\nIls bénéficient ainsi d’une bourse mobilité Région et d’une indemnité pôle emploi (aide au retour à l’emploi formation).\nNous avons 5 restaurants à Tokyo qui accueillent nos jeunes en stage pendant 2 mois : dont André Pachon\, Pierre Gagnaire\, « chez Olivier » (Olivier Oddos)\, Intercontinental Tokyo (Olivier Rodriguez) et Mandarin orientale restaurant « signature ».\nOutre un expérience professionnelle complémentaire indéniable\, l’objet des mobilités est également linguistique et culturel. En effet\, la langue utilisée sera l’anglais et il est prévu dans la subvention Région\, une découverte culturelle du pays et des traditions.\nIl est également prévu une rencontre à l’ambassade de France avec Martin BAER\, Chargé de la coopération Occitanie-Japon et l’attaché de coopération universitaire afin d’envisager d’autres partenariats. Les jeunes seront reçus quant à eux\, par Sébastien Martin\, chef cuisinier de la résidence de France\, qui connait par ailleurs très bien les structures d’accueils des jeunes.\n4 enseignants accompagnateurs seront présents (1 par campus)\, deux la 1ère semaine de mobilité et deux la dernière semaine\, afin de faciliter l’intégration des jeunes dans le pays et dans les entreprises d’accueil et de faire le bilan à la fin du séjour.
URL:https://quinzaine.japonoccitanie.fr/evenements/mobilite-apprentis-tokyo/
LOCATION:Tokyo\, SAKURA HOUSE CO.\, LTD. ("Lessor") located at 7-2-6 Nishi-shinjuku\, Shinjuku-ku\,\, Tokyo\, 160-0023\, France
CATEGORIES:Autre,Education
ATTACH;FMTTYPE=image/jpeg:https://quinzaine.japonoccitanie.fr/wp-content/uploads/2023/09/Depart-Japon-2022-site-web-banniere.jpg
ORGANIZER;CN="PURPLE CAMPUS":MAILTO:a.bibet@purple-campus.com
END:VEVENT
BEGIN:VEVENT
DTSTART;TZID=Europe/Paris:20231023T140000
DTEND;TZID=Europe/Paris:20231223T170000
DTSTAMP:20260422T191743
CREATED:20231021T211644Z
LAST-MODIFIED:20231113T103208Z
UID:3543-1698069600-1703350800@quinzaine.japonoccitanie.fr
SUMMARY:PEAUrigami® FUROSHIKI
DESCRIPTION:Exposition pédago-artistique de 50 furoshiki avec le mode de réalisation plié en origami. \nTous les types d’objets sont emballés dans du tissu japonais : livres\, bouteilles\, boite\, fleurs mais également\, des modèles de sacs sont présentés. \n2 arts japonais en résonance et en cohérence ; le papier washi utilisé pour réaliser l’explication pour réaliser le furoshiki est en accord avec le tissu japonais du furoshiki. \nDes explications détaillées sur le furoshiki seront présentées pour partager la culture japonaise. \nLe visiteur est invité à réaliser un furoshiki dans un atelier libre ou lors d’animations programmées où le visiteur sera invité à amener un objet de son choix et un carré de tissu de 50 x 50 cm. \nThéorie et pratique un mois avant la période des fêtes de fin d’année pour s’entrainer à faire de beaux cadeaux !
URL:https://quinzaine.japonoccitanie.fr/evenements/peaurigami-furoshiki/
LOCATION:Office de tourisme de Saint Sulpice\, Rue du 3 Mars 1930\, Saint-Sulpice-la-Pointe\, 81370
CATEGORIES:Atelier,Atelier créatif,Exposition
ATTACH;FMTTYPE=image/jpeg:https://quinzaine.japonoccitanie.fr/wp-content/uploads/2023/09/AFFICHE-FUROSHIKI_Dossier-de-candidature.jpg
ORGANIZER;CN="CAP Culture Animation Patrimoine":MAILTO:capsaintsulpice@gmail.com
END:VEVENT
BEGIN:VEVENT
DTSTART;TZID=Europe/Paris:20231024T210000
DTEND;TZID=Europe/Paris:20231216T190000
DTSTAMP:20260422T191743
CREATED:20230916T164610Z
LAST-MODIFIED:20231113T103055Z
UID:3121-1698181200-1702753200@quinzaine.japonoccitanie.fr
SUMMARY:Yasujirō Ozu
DESCRIPTION:On l’a dit trop japonais pour le public occidental. On l’a vu comme le représentant le plus pur de la culture japonaise. Et puis on a découvert qu’il était un cinéaste singulier dans le cinéma japonais\, un cinéaste à part\, absolument représentatif de rien sinon de son rapport existentiel au cinéma. C’est le mystère Yasujiro Ozu. Fascinant\, émouvant\, interrogeant\, excitant\, comblant\, époustouflant. Toujours mystérieux. Incroyablement moderne. S’il y a un exotisme Ozu\, c’est qu’il vient d’un autre pays. Pas du Japon comme on a pu le penser au début. Il vient du pays du cinéma. Un pays dont on a entendu parler mais que m’on ne connait pas vraiment.Parmi les films programmés : Bonjour\, Fin d’automne\, Fleurs d’équinoxe\, Le Goût du saké\, Herbes flottantes\, Printemps précoce\, Voyage à Tokyo…
URL:https://quinzaine.japonoccitanie.fr/evenements/yasujiro-ozu/
LOCATION:La Cinémathèque de Toulouse\, 69 Rue du Taur\, Toulouse\, 31000\, France
CATEGORIES:Projection
ORGANIZER;CN="La Cin%C3%A9math%C3%A8que de Toulouse":MAILTO:accueil@lacinemathequedetoulouse.com
END:VEVENT
BEGIN:VEVENT
DTSTART;TZID=Europe/Paris:20231101T000000
DTEND;TZID=Europe/Paris:20231231T235959
DTSTAMP:20260422T191743
CREATED:20231021T213258Z
LAST-MODIFIED:20231113T103009Z
UID:3930-1698796800-1704067199@quinzaine.japonoccitanie.fr
SUMMARY:Musée Japonais – La maison du Samouraï
DESCRIPTION:Le Musée Japonais – La maison du Samouraï Harageï-Ryū à Castelnau-le-Lez.Intimiste mais présentant une très belle et riche collection privée\, le Musée Japonais de Castelnau-le-Lez\, près de Montpellier\, réserve des surprises. Ce n’est pas un hasard si l’on retrouve des armures de samouraï du musée dans la série télévisée « Un si grand soleil »\, diffusée sur France 2. Son créateur\, Francis de Hèbles\, 6ᵉ Dan d’Aïkidō\, passionné par le Japon féodal a également créé « l’École des samouraïs ». \nSur 50 m²\, la collection présente une grande variété d’objets d’époque et de fidèles reproductions. Armure de samouraï (鎧 yoroï)\, casque de samouraï (兜 kabuto)\, katana (刀 sabre japonais)\, garde de katana (鍔 tsuba)\, flèche\, lance\, mais également maquette\, drapeau\, figurine… constituent un ensemble singulier et particulièrement riche sur le thème du Japon et de ses guerriers légendaires\, les samouraïs (侍). \nVisite guidée gratuite
URL:https://quinzaine.japonoccitanie.fr/evenements/musee-japonais-la-maison-du-samourai/
LOCATION:Musée du Samouraï\, 18 rue du clos Martin\, Castelnau-le-Lez\, 34170
CATEGORIES:Exposition
ATTACH;FMTTYPE=image/jpeg:https://quinzaine.japonoccitanie.fr/wp-content/uploads/2023/10/029-Musee-japonais-Haragei-Ryu-Castelnau-le-Lez-armures-samourai-Japon-feodal-1920x892-1.jpg
END:VEVENT
BEGIN:VEVENT
DTSTART;TZID=Europe/Paris:20231107T090000
DTEND;TZID=Europe/Paris:20231222T180000
DTSTAMP:20260422T191743
CREATED:20231021T091329Z
LAST-MODIFIED:20231113T102906Z
UID:4411-1699347600-1703268000@quinzaine.japonoccitanie.fr
SUMMARY:Espace de jeu "Restaurant japonais" à la Ludothèque La Marelle
DESCRIPTION:Du 7 Novembre au 22 Décembre\, au sein de l’espace de jeu de la ludothèque La Marelle\, un restaurant japonnais sera reconstitué et en accès libre\, permettant aux enfants la découverte du jeu symbolique en devenant les chefs cuisiniers de délicieux plats japonnais ou bien les clients de l’établissement. \nHoraires consultatbles en ligne sur : https://www.ludo-lamarelle.fr/
URL:https://quinzaine.japonoccitanie.fr/evenements/espace-de-jeu-restaurant-japonais-a-la-ludotheque-la-marelle/
LOCATION:Ludothèque La Marelle\, 12 Rue de la Violette\, Albi\, 81000
ATTACH;FMTTYPE=image/png:https://quinzaine.japonoccitanie.fr/wp-content/uploads/2023/10/Ludotheque-La-Marelle-2.png
END:VEVENT
BEGIN:VEVENT
DTSTART;TZID=Europe/Paris:20231110T080000
DTEND;TZID=Europe/Paris:20231223T220000
DTSTAMP:20260422T191743
CREATED:20231029T085147Z
LAST-MODIFIED:20231113T102230Z
UID:4917-1699603200-1703368800@quinzaine.japonoccitanie.fr
SUMMARY:LE JAPON À PÉZENAS
DESCRIPTION:Expositions – Conférence – Films – Spectacle – Performance – Dégustation. Retrouvez le programme complet de l’évènement « Le Japon à Pezenas » en cliquant ici. 
URL:https://quinzaine.japonoccitanie.fr/evenements/le-japon-a-pezenas/
LOCATION:pézenas\, 34120
CATEGORIES:Autre
ATTACH;FMTTYPE=image/jpeg:https://quinzaine.japonoccitanie.fr/wp-content/uploads/2023/10/AFFICHE-12.jpg
ORGANIZER;CN="Ville de P%C3%A9zenas":MAILTO:s.miro@ville-pezenas.fr
END:VEVENT
BEGIN:VEVENT
DTSTART;TZID=Europe/Paris:20231110T080000
DTEND;TZID=Europe/Paris:20231224T170000
DTSTAMP:20260422T191743
CREATED:20231021T210822Z
LAST-MODIFIED:20231113T101832Z
UID:4034-1699603200-1703437200@quinzaine.japonoccitanie.fr
SUMMARY:Japan in Perbosc – 2e édition
DESCRIPTION:Organisation d’ateliers\, d’animations et de rencontres sur le thème du Japon \n– Conférence\n– Cosplay\n– Ludothèque : mangas\, contes japonais\n– ateliers créatifs\, artistiques\, cuisine\n– expositions\n– concours\n– jeux de société  \netc
URL:https://quinzaine.japonoccitanie.fr/evenements/japan-in-perbosc-2e-edition/
LOCATION:Collège Antonin Perbosc d’Auterive\, 18 bis Av. d'Hermannsburg\, Auterive\, 31190\, France
CATEGORIES:Autre,Education
ATTACH;FMTTYPE=image/png:https://quinzaine.japonoccitanie.fr/wp-content/uploads/2023/10/Affiche-Japan-in-Perbosc-2.png
END:VEVENT
BEGIN:VEVENT
DTSTART;TZID=Europe/Paris:20231110T140000
DTEND;TZID=Europe/Paris:20231216T170000
DTSTAMP:20260422T191743
CREATED:20231021T093555Z
LAST-MODIFIED:20231113T101325Z
UID:4401-1699624800-1702746000@quinzaine.japonoccitanie.fr
SUMMARY:Exposition "L'influence du japonisme sur le décor d'une résidence de la famille Tapié de Celeyran - Toulouse Lautrec. Crespin\, commune de Dénat"
DESCRIPTION:Du 10 au 16 Décembre\, exposition à la Maison du Vieil Alby  par l’Association Albi Patrimoine.\n« L’influence du japonisme sur le décor d’une résidence de la famille Tapie de Celeyran – Toulouse-Lautrec : Crespin\, Commune de Dénat »\nLieu de vie d’Odon Tapié de Celeyran\, cette demeure porte encore l’empreinte de l’influence du japonisme. Les portes des chambres sont ornées de décors puisés dans les estampes japonaises. Sans en connaître l’auteur\, ils illustrent bien l’engouement que les peintres ont à la fin du XIXème  siècle pour cet art venu du Japon. Ils rentrent ici dans le décor domestique d’une demeure aristocratique. \nOuvert tous les jours de 14h00 à 17h00 sauf le dimanche\nGratuit pour les adhérents de l’association et -18 ans / Étudiants 1€\, plein tarif 3€
URL:https://quinzaine.japonoccitanie.fr/evenements/exposition-linfluence-du-japonisme-sur-le-decor-dune-residence-de-la-famille-tapie-de-celeyran-toulouse-lautrec-crespin-commune-de-denat/
LOCATION:Maison du Vieil Albi\, 1 Rue de la Croix Blanche\, Albi\, 81000
CATEGORIES:Exposition
ATTACH;FMTTYPE=image/jpeg:https://quinzaine.japonoccitanie.fr/wp-content/uploads/2023/10/Maison-Vieil-Albi.jpg
END:VEVENT
BEGIN:VEVENT
DTSTART;TZID=Europe/Paris:20231120T080000
DTEND;TZID=Europe/Paris:20240108T080000
DTSTAMP:20260422T191743
CREATED:20231021T165144Z
LAST-MODIFIED:20231113T090342Z
UID:3850-1700467200-1704700800@quinzaine.japonoccitanie.fr
SUMMARY:Exposition : les onomatopées japonaises (collège Jean Moulin)
DESCRIPTION:Les mangas sont aujourd’hui lus par un très large public\, en particulier dans la tranche d’âge des collégiens. De nombreux lecteurs ne doivent même plus réellement y faire attention\, mais les pages de leurs mangas préférés sont truffées d’onomatopées (mots reproduisant des bruits) en tout genre.\nLes Japonais ont en effet une perception très particulière de leur environnement et du langage\, ce qui les amène à utiliser beaucoup plus d’onomatopées (« giongo » en japonais) que les locuteurs d’autres langues. Il existe même une catégorie d’onomatopées à part\, les « gitaigo »\, qui sont utilisées\, non pas pour reproduire un bruit mais pour reproduire un état (une lumière qui brille\, une surface lisse\, ou même… le silence).\nLes objectifs de cette exposition sont les suivants :\n– Cela permet aux élèves exposants de s’entraîner à lire des katakana voire des hiragana tout en redécouvrant leurs mangas préférés.\n– Du côté des élèves spectateurs\, la découverte des onomatopées japonaises leur permettra d’approfondir leur compréhension de la culture japonaise par le biais des mangas.\nCette exposition se tiendra au CDI\, endroit de l’établissement le plus propice à la découverte de mangas et à de nouvelles cultures.
URL:https://quinzaine.japonoccitanie.fr/evenements/exposition-les-onomatopees-japonaises-college-jean-moulin/
LOCATION:CDI collège Jean Moulin\, 7 Av. des Écoles Jules Julien\, Toulouse\, 31400\, France
CATEGORIES:Education
ATTACH;FMTTYPE=image/jpeg:https://quinzaine.japonoccitanie.fr/wp-content/uploads/2023/10/ドドーン.jpg
END:VEVENT
BEGIN:VEVENT
DTSTART;TZID=Europe/Paris:20231120T080000
DTEND;TZID=Europe/Paris:20240108T080000
DTSTAMP:20260422T191743
CREATED:20231021T165253Z
LAST-MODIFIED:20231113T090203Z
UID:3853-1700467200-1704700800@quinzaine.japonoccitanie.fr
SUMMARY:Exposition : les onomatopées japonaises (collège Anatole France)
DESCRIPTION:Les mangas sont aujourd’hui lus par un très large public\, en particulier dans la tranche d’âge des collégiens. De nombreux lecteurs ne doivent même plus réellement y faire attention\, mais les pages de leurs mangas préférés sont truffées d’onomatopées (mots reproduisant des bruits) en tout genre.\nLes Japonais ont en effet une perception très particulière de leur environnement et du langage\, ce qui les amène à utiliser beaucoup plus d’onomatopées (« giongo » en japonais) que les locuteurs d’autres langues. Il existe même une catégorie d’onomatopées à part\, les « gitaigo »\, qui sont utilisées\, non pas pour reproduire un bruit mais pour reproduire un état (une lumière qui brille\, une surface lisse\, ou même… le silence).\nLes objectifs de cette exposition sont les suivants :\n– Cela permet aux élèves exposants de s’entraîner à lire des katakana voire des hiragana tout en redécouvrant leurs mangas préférés.\n– Du côté des élèves spectateurs\, la découverte des onomatopées japonaises leur permettra d’approfondir leur compréhension de la culture japonaise par le biais des mangas.\nCette exposition se tiendra au CDI\, endroit de l’établissement le plus propice à la découverte de mangas et à de nouvelles cultures.
URL:https://quinzaine.japonoccitanie.fr/evenements/exposition-les-onomatopees-japonaises-college-anatole-france/
LOCATION:CDI collège Anatole France\, 4 Av. de Lespinet\, Toulouse\, 31400\, France
CATEGORIES:Education
ATTACH;FMTTYPE=image/jpeg:https://quinzaine.japonoccitanie.fr/wp-content/uploads/2023/10/ドドーン-1.jpg
END:VEVENT
BEGIN:VEVENT
DTSTART;TZID=Europe/Paris:20231201T120000
DTEND;TZID=Europe/Paris:20231201T143000
DTSTAMP:20260422T191743
CREATED:20231106T210321Z
LAST-MODIFIED:20231113T075145Z
UID:5222-1701432000-1701441000@quinzaine.japonoccitanie.fr
SUMMARY:Quinzaine du Japon à l'Institution Saint Stanislas
DESCRIPTION:Mini démonstration de Taïko par l’association Taïko Mama à l’Institution Saint Stanislas et un atelier d’initiation au Taïko pour les élèves japonisants.
URL:https://quinzaine.japonoccitanie.fr/evenements/__trashed-6/
LOCATION:Institution Saint Stanislas\, 16 rue des Chassaintes\, Nîmes\, 30900
CATEGORIES:Education
ORGANIZER;CN="Institution Saint Stanislas":MAILTO:y.neidhardt@instituitonsaintstanislas.org
END:VEVENT
BEGIN:VEVENT
DTSTART;TZID=Europe/Paris:20230921T130000
DTEND;TZID=Europe/Paris:20230921T140000
DTSTAMP:20260422T191743
CREATED:20231001T153401Z
LAST-MODIFIED:20231113T103555Z
UID:3390-1695301200-1695304800@quinzaine.japonoccitanie.fr
SUMMARY:Club Manga
DESCRIPTION:Depuis maintenant 4 ans\, existe au collège Jean Louis Etienne le club manga.\nSous la supervision de Mme Mascret\, professeur documentaliste\, et M Lemoine\, professeur de Mathématiques\, le club se réuni toutes les semaines pendant 1h et propose à des élèves volontaires de tout les niveaux des activités sur les mangas :\n– « Table ronde » pour parler de nouveautés ou de manga favori\n– Concours de critique de mangas (manga sensei\, mang’akiba)\n– Participation au festival Jap’in Tarn\n– Création d’affiche sur des monstres mythologiques japonais que l’on retrouve dans les mangas\n– Création de blind test d’anime.\n– Création de Quizz sur les mangas et le Japon.\n– Création de « bande annonce » de mangas.\n…
URL:https://quinzaine.japonoccitanie.fr/evenements/club-manga/
LOCATION:Collège Jean Louis Etienne\, Rue Lapeyrouse\, Mazamet\, 81200
CATEGORIES:Education
ATTACH;FMTTYPE=image/png:https://quinzaine.japonoccitanie.fr/wp-content/uploads/2023/09/white-red-modern-japan-festival-promo-poster.png
ORGANIZER;CN="LEMOINE Kevin":MAILTO:kevin.lemoine@ac-toulouse.fr
END:VEVENT
BEGIN:VEVENT
DTSTART;TZID=Europe/Paris:20230921T130000
DTEND;TZID=Europe/Paris:20230921T140000
DTSTAMP:20260422T191743
CREATED:20231001T153401Z
LAST-MODIFIED:20231113T103555Z
UID:3390-1695301200-1695304800@quinzaine.japonoccitanie.fr
SUMMARY:Club Manga
DESCRIPTION:Depuis maintenant 4 ans\, existe au collège Jean Louis Etienne le club manga.\nSous la supervision de Mme Mascret\, professeur documentaliste\, et M Lemoine\, professeur de Mathématiques\, le club se réuni toutes les semaines pendant 1h et propose à des élèves volontaires de tout les niveaux des activités sur les mangas :\n– « Table ronde » pour parler de nouveautés ou de manga favori\n– Concours de critique de mangas (manga sensei\, mang’akiba)\n– Participation au festival Jap’in Tarn\n– Création d’affiche sur des monstres mythologiques japonais que l’on retrouve dans les mangas\n– Création de blind test d’anime.\n– Création de Quizz sur les mangas et le Japon.\n– Création de « bande annonce » de mangas.\n…
URL:https://quinzaine.japonoccitanie.fr/evenements/club-manga/
LOCATION:Collège Jean Louis Etienne\, Rue Lapeyrouse\, Mazamet\, 81200
CATEGORIES:Education
ATTACH;FMTTYPE=image/png:https://quinzaine.japonoccitanie.fr/wp-content/uploads/2023/09/white-red-modern-japan-festival-promo-poster.png
ORGANIZER;CN="LEMOINE Kevin":MAILTO:kevin.lemoine@ac-toulouse.fr
END:VEVENT
BEGIN:VEVENT
DTSTART;TZID=Europe/Paris:20231216T190000
DTEND;TZID=Europe/Paris:20231216T190000
DTSTAMP:20260422T191743
CREATED:20231110T072513Z
LAST-MODIFIED:20231113T075123Z
UID:5526-1702753200-1702753200@quinzaine.japonoccitanie.fr
SUMMARY:Soirée Conseils Voyage au Japon
DESCRIPTION:3 adhérents de l’association Wakaba présentent leurs longues voyages au Japon.Présentation des astuces et des conseils pour vos prochains voyages !Après la présentation\, nous partageons le dîner pour continuer à échanger des expériences.(apportez un plat à partager)
URL:https://quinzaine.japonoccitanie.fr/evenements/soiree-conseils-voyage-au-japon/
LOCATION:salle Testou\, Rue des écoles\, Castelginest\, 31780\, France
CATEGORIES:Conférence
ATTACH;FMTTYPE=image/jpeg:https://quinzaine.japonoccitanie.fr/wp-content/uploads/2023/11/Soiree-Voyage-au-Japon.jpg
ORGANIZER;CN="Association Wakaba":MAILTO:wakaba.culturejapon@gmail.com
END:VEVENT
BEGIN:VEVENT
DTSTART;TZID=Europe/Paris:20230921T130000
DTEND;TZID=Europe/Paris:20230921T140000
DTSTAMP:20260422T191743
CREATED:20231001T153401Z
LAST-MODIFIED:20231113T103555Z
UID:3390-1695301200-1695304800@quinzaine.japonoccitanie.fr
SUMMARY:Club Manga
DESCRIPTION:Depuis maintenant 4 ans\, existe au collège Jean Louis Etienne le club manga.\nSous la supervision de Mme Mascret\, professeur documentaliste\, et M Lemoine\, professeur de Mathématiques\, le club se réuni toutes les semaines pendant 1h et propose à des élèves volontaires de tout les niveaux des activités sur les mangas :\n– « Table ronde » pour parler de nouveautés ou de manga favori\n– Concours de critique de mangas (manga sensei\, mang’akiba)\n– Participation au festival Jap’in Tarn\n– Création d’affiche sur des monstres mythologiques japonais que l’on retrouve dans les mangas\n– Création de blind test d’anime.\n– Création de Quizz sur les mangas et le Japon.\n– Création de « bande annonce » de mangas.\n…
URL:https://quinzaine.japonoccitanie.fr/evenements/club-manga/
LOCATION:Collège Jean Louis Etienne\, Rue Lapeyrouse\, Mazamet\, 81200
CATEGORIES:Education
ATTACH;FMTTYPE=image/png:https://quinzaine.japonoccitanie.fr/wp-content/uploads/2023/09/white-red-modern-japan-festival-promo-poster.png
ORGANIZER;CN="LEMOINE Kevin":MAILTO:kevin.lemoine@ac-toulouse.fr
END:VEVENT
BEGIN:VEVENT
DTSTART;TZID=Europe/Paris:20230921T130000
DTEND;TZID=Europe/Paris:20230921T140000
DTSTAMP:20260422T191743
CREATED:20231001T153401Z
LAST-MODIFIED:20231113T103555Z
UID:3390-1695301200-1695304800@quinzaine.japonoccitanie.fr
SUMMARY:Club Manga
DESCRIPTION:Depuis maintenant 4 ans\, existe au collège Jean Louis Etienne le club manga.\nSous la supervision de Mme Mascret\, professeur documentaliste\, et M Lemoine\, professeur de Mathématiques\, le club se réuni toutes les semaines pendant 1h et propose à des élèves volontaires de tout les niveaux des activités sur les mangas :\n– « Table ronde » pour parler de nouveautés ou de manga favori\n– Concours de critique de mangas (manga sensei\, mang’akiba)\n– Participation au festival Jap’in Tarn\n– Création d’affiche sur des monstres mythologiques japonais que l’on retrouve dans les mangas\n– Création de blind test d’anime.\n– Création de Quizz sur les mangas et le Japon.\n– Création de « bande annonce » de mangas.\n…
URL:https://quinzaine.japonoccitanie.fr/evenements/club-manga/
LOCATION:Collège Jean Louis Etienne\, Rue Lapeyrouse\, Mazamet\, 81200
CATEGORIES:Education
ATTACH;FMTTYPE=image/png:https://quinzaine.japonoccitanie.fr/wp-content/uploads/2023/09/white-red-modern-japan-festival-promo-poster.png
ORGANIZER;CN="LEMOINE Kevin":MAILTO:kevin.lemoine@ac-toulouse.fr
END:VEVENT
END:VCALENDAR